BEGIN:VCALENDAR
VERSION:2.0
PRODID:-//LSPR Institute - ECPv6.15.14//NONSGML v1.0//EN
CALSCALE:GREGORIAN
METHOD:PUBLISH
X-WR-CALNAME:LSPR Institute
X-ORIGINAL-URL:https://www.lspr.ac.id
X-WR-CALDESC:Events for LSPR Institute
REFRESH-INTERVAL;VALUE=DURATION:PT1H
X-Robots-Tag:noindex
X-PUBLISHED-TTL:PT1H
BEGIN:VTIMEZONE
TZID:Asia/Jakarta
BEGIN:STANDARD
TZOFFSETFROM:+0700
TZOFFSETTO:+0700
TZNAME:WIB
DTSTART:20250101T000000
END:STANDARD
END:VTIMEZONE
BEGIN:VEVENT
DTSTART;TZID=Asia/Jakarta:20260311T080000
DTEND;TZID=Asia/Jakarta:20260311T170000
DTSTAMP:20260421T234903
CREATED:20260311T070923Z
LAST-MODIFIED:20260311T070923Z
UID:46835-1773216000-1773248400@www.lspr.ac.id
SUMMARY:the International Short Mobility Programme: China Immersion Journey to Chongqing & Chengdu in collaboration with Sichuan International Studies University (SISU)
DESCRIPTION:Hello LSPRians\, \nAre you ready for a global experience in China?  \nWe proudly present the International Short Mobility Programme: China Immersion Journey to Chongqing & Chengdu in collaboration with Sichuan International Studies University (SISU). This is a 2 week intensive learning experience designed to broaden your global mindset and deepen your cross cultural understanding. \n Destination: Chongqing & Chengdu\n Programme Dates: 16 – 29 September 2026 (2 Weeks) \n✨ Programme Highlights:\n* Iconic Chongqing Exploration\n* Academic & Campus Experience\n* Industry & Cultural Exchange\n* High-Speed Rail Journey\n* Chengdu Cultural Discovery\n* Closing Ceremony & Reflection \n✨What makes this programme even more special?\nYou will engage in cross cultural learning alongside students from Linguistics University of Nizhny Novgorod\, Russia\, creating a truly international classroom experience. \n Programme Fee: IDR 71.500.000\nThis package includes:\n✔ Round Trip flight (CGK – CKG – CGK)\n✔ Hotel accommodation in Chongqing & Chengdu\n✔ China visa\n✔ High-speed rail tickets between Chongqing and Chengdu\n✔ Local transportation\n✔ Daily meals\n✔ Travel insurance\n✔ Intensive itinerary with SISU\n✔ NAP \nThis is a fully curated academic and cultural immersion experience designed so you can focus on learning\, networking\, and exploring without worrying about logistics. \n✨ Installment payment options are available\, making this global experience more accessible and manageable for you. \n Registration: tinyurl.com/LSPRxSISU \nInvest not only in a trip but in global exposure\, global confidence\, and a stronger future portfolio. Seats are limited\, secure your place and be part of this unforgettable global experience. \nContact us for more details:\n internationaloffice@lspr.edu\n Ms. Annisa +62 818 0756 1271 (WhatsApp)\n Hotline IRPO +62 815 1305 3559 (WhatsApp)\n Instagram: @lspr.international \nYour International Journey Starts Here at LSPR! \n#LSPRInternational #LSPRJakarta #LSPRBekasi #LSPRBali #LSPRPostgraduate #LSPRELearning #LSPRians #LSPR34th #ShortMobilityProgramme2026 #LSPRxSISU
URL:https://www.lspr.ac.id/event/the-international-short-mobility-programme-china-immersion-journey-to-chongqing-chengdu-in-collaboration-with-sichuan-international-studies-university-sisu/
CATEGORIES:IRPO
ATTACH;FMTTYPE=image/png:https://contents.lspr.ac.id/2026/03/cover-1.png
END:VEVENT
BEGIN:VEVENT
DTSTART;TZID=Asia/Jakarta:20260423T130000
DTEND;TZID=Asia/Jakarta:20260423T160000
DTSTAMP:20260421T234903
CREATED:20260421T073428Z
LAST-MODIFIED:20260421T073428Z
UID:47398-1776949200-1776960000@www.lspr.ac.id
SUMMARY:Synchronize Fest Talks: Seni Berbisnis Seni Hadir di LSPR Institute of Communication and Business
DESCRIPTION:LSPR Institute of Communication and Business bersama London School Radio dan Synchronize Fest akan menyelenggarakan Synchronize Fest Talks bertajuk “Seni Berbisnis Seni” pada Rabu\, 23 April 2026\, pukul 13.00–16.00 WIB\, bertempat di Prof. Dr. Djajusman Auditorium and Performance Hall\, LSPR Jakarta. \nKegiatan ini akan menghadirkan para narasumber yang berpengalaman di industri kreatif dan festival musik\, yaitu Aldila Karina Putri\, Director of Communication Synchronize Fest\, serta Saleh Husein\, Director of Artistic Synchronize Fest. Diskusi ini juga akan dimoderatori oleh Melvin Bonardo Simanjuntak\, M.I.Kom. \nMelalui tema “Seni Berbisnis Seni\,” acara ini akan membahas bagaimana seni tidak hanya menjadi medium ekspresi\, tetapi juga memiliki potensi besar untuk dikembangkan menjadi ekosistem bisnis yang berkelanjutan. Peserta akan diajak untuk memahami lebih dalam mengenai strategi komunikasi\, pengelolaan artistik\, serta dinamika di balik industri kreatif dan penyelenggaraan festival. \nAcara ini menjadi kesempatan bagi mahasiswa dan peserta yang tertarik pada dunia komunikasi\, industri kreatif\, seni\, dan event untuk memperoleh wawasan langsung dari para praktisi. Dengan menghadirkan perspektif dari pelaku industri\, Synchronize Fest Talks diharapkan dapat membuka ruang diskusi yang inspiratif sekaligus memperluas pemahaman mengenai keterkaitan antara kreativitas dan bisnis. \nJangan lewatkan kesempatan untuk menjadi bagian dari diskusi menarik ini dan temukan bagaimana seni dapat berkembang menjadi kekuatan yang berdampak secara kreatif maupun profesional.
URL:https://www.lspr.ac.id/event/synchronize-fest-talks-seni-berbisnis-seni-hadir-di-lspr-institute-of-communication-and-business/
LOCATION:Prof. Dr. Djajusman Auditorium & Performance Hall\, LSPR Sudirman Park Campus\, LSPR Sudirman Park Campus\, Jl. K.H. Mas Mansyur\, Kav. 35. Jakarta Pusat\, Jakarta\, Jakarta Pusat\, 10220\, Indonesia
CATEGORIES:Upcoming Event
ATTACH;FMTTYPE=image/png:https://contents.lspr.ac.id/2026/04/SF26_TALKS-01-FEED-1.png
END:VEVENT
BEGIN:VEVENT
DTSTART;TZID=Asia/Jakarta:20260424T131500
DTEND;TZID=Asia/Jakarta:20260424T160000
DTSTAMP:20260421T234903
CREATED:20260421T112559Z
LAST-MODIFIED:20260421T112559Z
UID:47419-1777036500-1777046400@www.lspr.ac.id
SUMMARY:Cakrawala Ambassador Talks (Vol. 8) in collaboration with ASEAN Talks (Vol. 8)
DESCRIPTION:“Bridging Regions through Soft Power: Hungary’s Public Diplomacy toward ASEAN in the Era of Global Fragmentation.” \nIn an era of global fragmentation\, diplomacy is no longer defined solely by power\, but by the ability to influence through connection\, culture\, and communication. This discussion explores how Hungary leverages public diplomacy and soft power to strengthen its engagement with ASEAN and bridge regions in a rapidly changing world. \nHonorary Speaker:\nH.E. Lilla Karsay – Ambassador of Hungary to Indonesia\nDate : Friday\, 24 April 2026\nTime : 13.15 – 16.00 WIB\nVenue : Prof. Dr. Djajusman Auditorium & Performance Hall LSPR Institute of Communication & Business\, Jakarta \nRegister here:\nhttps://bit.ly/AmbassadorTalksxASEANTalks \nJoin us in exploring how public diplomacy and soft power shape international relations and strengthen cooperation between regions. \n#LSPRJakarta #CakrawalaTalks #ASEANTalks #PublicDiplomacy #ASEAN #InternationalRelations
URL:https://www.lspr.ac.id/event/cakrawala-ambassador-talks-vol-8-in-collaboration-with-asean-talks-vol-8/
CATEGORIES:Upcoming Event
ATTACH;FMTTYPE=image/jpeg:https://contents.lspr.ac.id/2026/04/WhatsApp-Image-2026-04-21-at-18.15.01.jpeg
END:VEVENT
BEGIN:VEVENT
DTSTART;VALUE=DATE:20260425
DTEND;VALUE=DATE:20260426
DTSTAMP:20260421T234903
CREATED:20260421T093406Z
LAST-MODIFIED:20260421T093448Z
UID:47409-1777075200-1777161599@www.lspr.ac.id
SUMMARY:AUTISM AWARENESS FESTIVAL 18TH
DESCRIPTION:Dalam rangka memperingati Hari Peduli Autisme Sedunia yang diperingati setiap tanggal 02 April\, London School Centre for Autism Awareness akan mengadakan Autism Awareness Festival (AFF) yang ke-18 ✨ \nAAF ke-18 ini memiliki tema “Spectrum of Strength” merupakan sebuah ajang untuk teman-teman dalam menampilkan kemampuan di bidang seni\, mengikuti beauty class\, dan berpartisipasi pada bazar \nAcara ini akan dilaksanakan pada:\nHari\, Tanggal: Sabtu\, 25 April 2026\n⏰ Waktu: 10.00 – Selesai\nLokasi: LSPR Jakarta\, Kampus B \nLSCAA ingin mengundang teman-teman semua untuk mengikuti kegiatan yang kami selenggarakan yaitu:\nPentas Seni Musik & Menari (FULL)\nBeauty Class (Rp 150.000)\nBazar (FULL) \nUntuk kamu yang ingin mendaftar\, silahkan klik link dibawah ini sesuai dengan kategorinya‼️ \nhttps://bit.ly/PendaftaranPensiAAF18 \nhttps://bit.ly/PendaftaranBeautyClassAAF18 \nhttps://bit.ly/PendaftaranBazarAAF18 \nAyo\, daftar sekarang juga dan ekspresikan dirimu bersama AAF 18! \nInfo detail bisa hubungi hotline kami di:\n0815-1130-0225 \nSampai jumpa di acara AAF 18 \n#AutismAwarenessFestival18\n#LSCAA\n#Autisme\n#Pemahaman\n#Inklusivitas\n#TerimaAutism
URL:https://www.lspr.ac.id/event/autism-awareness-festival-18th/
CATEGORIES:Upcoming Event
ATTACH;FMTTYPE=image/jpeg:https://contents.lspr.ac.id/2026/04/WhatsApp-Image-2026-04-21-at-16.29.00.jpeg
END:VEVENT
BEGIN:VEVENT
DTSTART;TZID=Asia/Jakarta:20260629T080000
DTEND;TZID=Asia/Jakarta:20260717T170000
DTSTAMP:20260421T234903
CREATED:20251217T085809Z
LAST-MODIFIED:20251218T095223Z
UID:45372-1782720000-1784307600@www.lspr.ac.id
SUMMARY:University College London (UCL) Summer School Intensive Global Study Program 2026 Session 1
DESCRIPTION:Warm greetings from the LSPR International Office! \nReady to take your learning experience beyond borders?\nThis summer\, LSPR Institute of Communication & Business proudly invites you to join the University College London (UCL) Summer School Intensive Global Study Program 2026\, a 3-week academic journey at UCL\, one of the Top 10 universities in the world (QS Rank #9)! \nThis programme is specially designed to empower LSPR students to gain international exposure\, deepen academic excellence\, and build global confidence. Whether you aim to strengthen your portfolio\, enhance your professional competency\, or experience studying in a world-class learning environment\, this programme offers an exceptional opportunity to elevate your future. \nSession 1: 29 June – 17 July 2026 \nSpecial Discount for LSPR Students\nTo make this experience more accessible:\nRegular Fee: GBP £2\,995\nLSPR Exclusive Discount: 10% off GBP £2\,695\nThis tuition fee includes academic modules\, learning materials\, and access to UCL campus facilities. Exclude accommodation\, flights\, visa\, and personal expenses. \n✨ Programme Benefits:\n✅ Earn 12 SKS Internship Credits for Undergraduate Programme (UGP)\n✅ Selected PGP Courses eligible for coursework & exam equivalency\n✅ Learn and collaborate in a world-leading environment\n✅ Expand your global network & knowledge in London\n✅ Installment payment options available through our trusted third-party financing partners \nReady to Join?\nParticipating in UCL Summer School is more than just attending classes\, it’s an investment in your future self. Students who have joined similar programs often share that the experience gave them:\n✨ Greater confidence in communicating with global peers\n✨ Clearer direction for career and academic pathways\n✨ A stronger sense of independence and adaptability\n✨ A deeper appreciation for cross-cultural understanding \nInterested?\nScan the QR code on the poster to register or contact LSPR International Office for more details:\ninternationaloffice@lspr.edu\n+62 815 1305 3559\nInstagram: @lspr.international \nLet’s make London your classroom this summer! ✨
URL:https://www.lspr.ac.id/event/university-college-london-ucl-summer-school-intensive-global-study-program-2026/
CATEGORIES:IRPO,Upcoming Event
ATTACH;FMTTYPE=image/png:https://contents.lspr.ac.id/2025/12/Poster-UCL-2026-Session-1.png
END:VEVENT
BEGIN:VEVENT
DTSTART;TZID=Asia/Jakarta:20260720T080000
DTEND;TZID=Asia/Jakarta:20260807T170000
DTSTAMP:20260421T234903
CREATED:20251218T045306Z
LAST-MODIFIED:20251218T095118Z
UID:45393-1784534400-1786122000@www.lspr.ac.id
SUMMARY:University College London (UCL) Summer School Intensive Global Study Program 2026 Session 2
DESCRIPTION:Warm greetings from the LSPR International Office! \nReady to take your learning experience beyond borders?\nThis summer\, LSPR Institute of Communication & Business proudly invites you to join the University College London (UCL) Summer School Intensive Global Study Program 2026\, a 3-week academic journey at UCL\, one of the Top 10 universities in the world (QS Rank #9)! \nThis programme is specially designed to empower LSPR students to gain international exposure\, deepen academic excellence\, and build global confidence. Whether you aim to strengthen your portfolio\, enhance your professional competency\, or experience studying in a world-class learning environment\, this programme offers an exceptional opportunity to elevate your future. \nSession 2: 20 July – 7 August 2026 \nSpecial Discount for LSPR Students\nTo make this experience more accessible:\nRegular Fee: GBP £2\,995\nLSPR Exclusive Discount: 10% off GBP £2\,695\nThis tuition fee includes academic modules\, learning materials\, and access to UCL campus facilities. Exclude accommodation\, flights\, visa\, and personal expenses. \n✨ Programme Benefits:\n✅ Earn 12 SKS Internship Credits for Undergraduate Programme (UGP)\n✅ Selected PGP Courses eligible for coursework & exam equivalency\n✅ Learn and collaborate in a world-leading environment\n✅ Expand your global network & knowledge in London\n✅ Installment payment options available through our trusted third-party financing partners \nReady to Join?\nParticipating in UCL Summer School is more than just attending classes\, it’s an investment in your future self. Students who have joined similar programs often share that the experience gave them:\n✨ Greater confidence in communicating with global peers\n✨ Clearer direction for career and academic pathways\n✨ A stronger sense of independence and adaptability\n✨ A deeper appreciation for cross-cultural understanding \nInterested?\nScan the QR code on the poster to register or contact LSPR International Office for more details:\ninternationaloffice@lspr.edu\n+62 815 1305 3559\nInstagram: @lspr.international \nLet’s make London your classroom this summer! ✨
URL:https://www.lspr.ac.id/event/university-college-london-ucl-summer-school-intensive-global-study-program-2026-session-2/
CATEGORIES:IRPO
ATTACH;FMTTYPE=image/png:https://contents.lspr.ac.id/2025/12/Poster-UCL-2026-Session-2.png
END:VEVENT
END:VCALENDAR