BEGIN:VCALENDAR
VERSION:2.0
PRODID:-//LSPR Institute - ECPv6.15.14//NONSGML v1.0//EN
CALSCALE:GREGORIAN
METHOD:PUBLISH
X-WR-CALNAME:LSPR Institute
X-ORIGINAL-URL:https://www.lspr.ac.id
X-WR-CALDESC:Events for LSPR Institute
REFRESH-INTERVAL;VALUE=DURATION:PT1H
X-Robots-Tag:noindex
X-PUBLISHED-TTL:PT1H
BEGIN:VTIMEZONE
TZID:Asia/Jakarta
BEGIN:STANDARD
TZOFFSETFROM:+0700
TZOFFSETTO:+0700
TZNAME:WIB
DTSTART:20250101T000000
END:STANDARD
END:VTIMEZONE
BEGIN:VEVENT
DTSTART;VALUE=DATE:20260425
DTEND;VALUE=DATE:20260426
DTSTAMP:20260425T045212
CREATED:20260421T093406Z
LAST-MODIFIED:20260421T093448Z
UID:47409-1777075200-1777161599@www.lspr.ac.id
SUMMARY:AUTISM AWARENESS FESTIVAL 18TH
DESCRIPTION:Dalam rangka memperingati Hari Peduli Autisme Sedunia yang diperingati setiap tanggal 02 April\, London School Centre for Autism Awareness akan mengadakan Autism Awareness Festival (AFF) yang ke-18 ✨ \nAAF ke-18 ini memiliki tema “Spectrum of Strength” merupakan sebuah ajang untuk teman-teman dalam menampilkan kemampuan di bidang seni\, mengikuti beauty class\, dan berpartisipasi pada bazar \nAcara ini akan dilaksanakan pada:\nHari\, Tanggal: Sabtu\, 25 April 2026\n⏰ Waktu: 10.00 – Selesai\nLokasi: LSPR Jakarta\, Kampus B \nLSCAA ingin mengundang teman-teman semua untuk mengikuti kegiatan yang kami selenggarakan yaitu:\nPentas Seni Musik & Menari (FULL)\nBeauty Class (Rp 150.000)\nBazar (FULL) \nUntuk kamu yang ingin mendaftar\, silahkan klik link dibawah ini sesuai dengan kategorinya‼️ \nhttps://bit.ly/PendaftaranPensiAAF18 \nhttps://bit.ly/PendaftaranBeautyClassAAF18 \nhttps://bit.ly/PendaftaranBazarAAF18 \nAyo\, daftar sekarang juga dan ekspresikan dirimu bersama AAF 18! \nInfo detail bisa hubungi hotline kami di:\n0815-1130-0225 \nSampai jumpa di acara AAF 18 \n#AutismAwarenessFestival18\n#LSCAA\n#Autisme\n#Pemahaman\n#Inklusivitas\n#TerimaAutism
URL:https://www.lspr.ac.id/event/autism-awareness-festival-18th/
CATEGORIES:Upcoming Event
ATTACH;FMTTYPE=image/jpeg:https://contents.lspr.ac.id/2026/04/WhatsApp-Image-2026-04-21-at-16.29.00.jpeg
END:VEVENT
END:VCALENDAR